BEGIN:VCALENDAR
VERSION:2.0
PRODID:-//Plone.org//NONSGML plone.app.event//EN
X-WR-TIMEZONE:Europe/Berlin
BEGIN:VEVENT
SUMMARY:Treizième réunion des correspondants du Centre régional médite
 rranéen pour l'intervention d'urgence contre la pollution marine accident
 elle (REMPEC)
DTSTART;VALUE=DATE:20190611
DTEND;VALUE=DATE:20190614
DTSTAMP;VALUE=DATE-TIME:20260422T122008Z
UID:9fe5c604a27c4c99922f3320bdf994d0@127.0.0.1:9080
CREATED;VALUE=DATE-TIME:20200327T120253Z
LAST-MODIFIED;VALUE=DATE-TIME:20201019T072015Z
URL:https://www.rempec.org/fr/evenements/evenements-du-rempec/treizieme-re
 union-des-correspondants-du-rempec
END:VEVENT
END:VCALENDAR
