BEGIN:VCALENDAR
VERSION:2.0
PRODID:-//Plone.org//NONSGML plone.app.event//EN
X-WR-TIMEZONE:Europe/Berlin
BEGIN:VEVENT
SUMMARY:Réunion régionale des experts nationaux sur la Stratégie régio
 nale post-2021
DTSTART;TZID=Europe/Berlin;VALUE=DATE-TIME:20201210T090000
DTEND;TZID=Europe/Berlin;VALUE=DATE-TIME:20201210T173000
DTSTAMP;VALUE=DATE-TIME:20260422T171905Z
UID:5846585e2b524ac190231dc691c699da@127.0.0.1:9080
CREATED;VALUE=DATE-TIME:20200915T121339Z
DESCRIPTION:Réunion régionale des experts nationaux sur la Stratégie r
 égionale post-2021 pour la prévention et la lutte contre la pollution ma
 rine provenant des navires
LAST-MODIFIED;VALUE=DATE-TIME:20200915T121356Z
LOCATION:En ligne
URL:https://www.rempec.org/fr/evenements/evenements-du-rempec/reunion-regi
 onale-des-experts-nationaux-sur-la-strategie-regionale-post-2021
END:VEVENT
BEGIN:VTIMEZONE
TZID:Europe/Berlin
X-LIC-LOCATION:Europe/Berlin
BEGIN:STANDARD
DTSTART;VALUE=DATE-TIME:20201025T020000
TZNAME:CET
TZOFFSETFROM:+0200
TZOFFSETTO:+0100
END:STANDARD
END:VTIMEZONE
END:VCALENDAR
