BEGIN:VCALENDAR
VERSION:2.0
PRODID:-//Plone.org//NONSGML plone.app.event//EN
X-WR-TIMEZONE:Europe/Berlin
BEGIN:VEVENT
SUMMARY:Deuxième réunion sur l'élaboration du plan d'urgence sous-régi
 onal en cas de déversement d'hydrocarbures dans l'Adriatique
DTSTART;VALUE=DATE:20230516
DTEND;VALUE=DATE:20230519
DTSTAMP;VALUE=DATE-TIME:20260423T152405Z
UID:10375051d9ce4b33bd85b5e625d81464@127.0.0.1:9080
CREATED;VALUE=DATE-TIME:20230209T141912Z
LAST-MODIFIED;VALUE=DATE-TIME:20230324T094004Z
LOCATION:Opatija\, Croatia
URL:https://www.rempec.org/fr/evenements/evenements-du-rempec/deuxieme-reu
 nion-sur-lelaboration-du-plan-durgence-sous-regional-en-cas-de-deversement
 -dhydrocarbures-dans-ladriatique
END:VEVENT
END:VCALENDAR
