BEGIN:VCALENDAR
VERSION:2.0
PRODID:-//Plone.org//NONSGML plone.app.event//EN
X-WR-TIMEZONE:Europe/Berlin
BEGIN:VEVENT
SUMMARY:Cours de formation sur le Protocole de 2010 visant à modifier la 
 Convention internationale sur la responsabilité et l'indemnisation en cas
  de dommages liés au transport de substances dangereuses et nocives par m
 er
DTSTART;VALUE=DATE:20131212
DTEND;VALUE=DATE:20131214
DTSTAMP;VALUE=DATE-TIME:20260422T085933Z
UID:a64aff683313459e8b76a9f82da397b3@127.0.0.1:9080
CREATED;VALUE=DATE-TIME:20200522T131734Z
LAST-MODIFIED;VALUE=DATE-TIME:20210118T092033Z
LOCATION:Malte
URL:https://www.rempec.org/fr/evenements/evenements-du-rempec/cours-de-for
 mation-sur-le-protocole-de-2010-visant-a-modifier-la-convention-internatio
 nale-sur-la-responsabilite-et-lindemnisation-en-cas-de-dommages-lies-au-tr
 ansport-de-substances-dangereuses-et-nocives-par-mer
END:VEVENT
END:VCALENDAR
