BEGIN:VCALENDAR
VERSION:2.0
PRODID:-//Plone.org//NONSGML plone.app.event//EN
X-WR-TIMEZONE:Europe/Berlin
BEGIN:VEVENT
SUMMARY:Webinar: Review of Draft Guidelines for Joint Spill Response Exerc
 ises
DTSTART;TZID=Europe/Berlin;VALUE=DATE-TIME:20250204T103000
DTEND;TZID=Europe/Berlin;VALUE=DATE-TIME:20250204T133000
DTSTAMP;VALUE=DATE-TIME:20260423T104800Z
UID:10e3dac44c2b4d3396efb39b7d6b5a68@127.0.0.1:9080
CREATED;VALUE=DATE-TIME:20250116T095415Z
LAST-MODIFIED;VALUE=DATE-TIME:20250116T095707Z
URL:https://www.rempec.org/en/events/rempec-events/webinar-review-of-draft
 -guidelines-for-joint-spill-response-exercises
END:VEVENT
BEGIN:VTIMEZONE
TZID:Europe/Berlin
X-LIC-LOCATION:Europe/Berlin
BEGIN:STANDARD
DTSTART;VALUE=DATE-TIME:20241027T020000
TZNAME:CET
TZOFFSETFROM:+0200
TZOFFSETTO:+0100
END:STANDARD
END:VTIMEZONE
END:VCALENDAR
