BEGIN:VCALENDAR
VERSION:2.0
PRODID:-//Plone.org//NONSGML plone.app.event//EN
X-WR-TIMEZONE:Europe/Berlin
BEGIN:VEVENT
SUMMARY:Training Course on the Protocol of 2010 to Amend the International
  Convention on Liability and Compensation For Damage in Connection with th
 e carriage of Hazardous and Noxious Substances by Sea
DTSTART;VALUE=DATE:20131212
DTEND;VALUE=DATE:20131214
DTSTAMP;VALUE=DATE-TIME:20260422T104738Z
UID:de976f00bd61417bba02ae599d34a79f@127.0.0.1:9080
CREATED;VALUE=DATE-TIME:20200413T090622Z
LAST-MODIFIED;VALUE=DATE-TIME:20210118T092032Z
LOCATION:Malta
URL:https://www.rempec.org/en/events/rempec-events/training-course-on-the-
 protocol-of-2010-to-amend-the-international-convention-on-liability-and-co
 mpensation-for-damage-in-connection-with-the-carriage-of-hazardous-and-nox
 ious-substances-by-sea
END:VEVENT
END:VCALENDAR
