BEGIN:VCALENDAR
VERSION:2.0
PRODID:-//Plone.org//NONSGML plone.app.event//EN
X-WR-TIMEZONE:Europe/Berlin
BEGIN:VEVENT
SUMMARY:Third Meeting of the Mediterranean Network of Law Enforcement Offi
 cials relating to MARPOL within the framework of the Barcelona Convention 
 (MENELAS) 15-16 October 2019
DTSTART;VALUE=DATE:20191015
DTEND;VALUE=DATE:20191017
DTSTAMP;VALUE=DATE-TIME:20260422T085254Z
UID:1efb499b319b4f2ba7161f6029d4bdd6@127.0.0.1:9080
CREATED;VALUE=DATE-TIME:20200324T153627Z
DESCRIPTION:Valletta\, Malta
LAST-MODIFIED;VALUE=DATE-TIME:20201214T070719Z
LOCATION:Valletta (Malta)
URL:https://www.rempec.org/en/events/rempec-events/third-meeting-of-menela
 s
END:VEVENT
END:VCALENDAR
