BEGIN:VCALENDAR
VERSION:2.0
PRODID:-//Plone.org//NONSGML plone.app.event//EN
X-WR-TIMEZONE:Europe/Berlin
BEGIN:VEVENT
SUMMARY:Sub-Regional Workshop on the assessment of the level of oil spill 
 response planning and readiness management (West MOPoCo Project)
DTSTART;TZID=Europe/Berlin;VALUE=DATE-TIME:20190424T090000
DTEND;TZID=Europe/Berlin;VALUE=DATE-TIME:20190426T170000
DTSTAMP;VALUE=DATE-TIME:20260423T140509Z
UID:db1b568125f9496cb1fbadb3f409804d@127.0.0.1:9080
CREATED;VALUE=DATE-TIME:20200324T150639Z
LAST-MODIFIED;VALUE=DATE-TIME:20200427T144022Z
LOCATION:Valletta (Malta)
URL:https://www.rempec.org/en/events/rempec-events/the-western-mediterrane
 an-coastal-states-used-a-harmonised-self-assessment-tool-to-evaluate-their
 -national-contingency-plan-to-respond-to-marine-pollution
END:VEVENT
BEGIN:VTIMEZONE
TZID:Europe/Berlin
X-LIC-LOCATION:Europe/Berlin
BEGIN:DAYLIGHT
DTSTART;VALUE=DATE-TIME:20190331T030000
TZNAME:CEST
TZOFFSETFROM:+0100
TZOFFSETTO:+0200
END:DAYLIGHT
END:VTIMEZONE
END:VCALENDAR
