BEGIN:VCALENDAR
VERSION:2.0
PRODID:-//Plone.org//NONSGML plone.app.event//EN
X-WR-TIMEZONE:Europe/Berlin
BEGIN:VEVENT
SUMMARY:Tenth Meeting of the Focal Points of REMPEC
DTSTART;VALUE=DATE:20110503
DTEND;VALUE=DATE:20110506
DTSTAMP;VALUE=DATE-TIME:20260422T104553Z
UID:a28f6cbc946f4362ba1bca2926e580b6@127.0.0.1:9080
CREATED;VALUE=DATE-TIME:20200414T140611Z
DESCRIPTION:The Regional Marine Pollution Emergency Response Centre for th
 e Mediterranean Sea (REMPEC) hosted its Tenth Meeting of Focal Points\, fr
 om 3 to 5 May 2011 in Malta.
LAST-MODIFIED;VALUE=DATE-TIME:20201019T072849Z
LOCATION:Sliema (Malta)
URL:https://www.rempec.org/en/events/rempec-events/tenth-meeting-of-the-fo
 cal-points-of-rempec
END:VEVENT
END:VCALENDAR
