BEGIN:VCALENDAR
VERSION:2.0
PRODID:-//Plone.org//NONSGML plone.app.event//EN
X-WR-TIMEZONE:Europe/Berlin
BEGIN:VEVENT
SUMMARY:Tabletop Exercise within the Sub regional Marine Oil Pollution Con
 tingency Plan between Cyprus\, Greece\, and Israel
DTSTART;VALUE=DATE:20231121
DTEND;VALUE=DATE:20231123
DTSTAMP;VALUE=DATE-TIME:20260420T145959Z
UID:4f5c579f783044e083bee16c2727ec63@127.0.0.1:9080
CREATED;VALUE=DATE-TIME:20220428T150518Z
LAST-MODIFIED;VALUE=DATE-TIME:20230821T142713Z
LOCATION:Cyrprus
URL:https://www.rempec.org/en/events/rempec-events/tabletop-exercise-withi
 n-the-sub-regional-marine-oil-pollution-contingency-plan-between-cyprus-gr
 eece-and-israel
END:VEVENT
END:VCALENDAR
