BEGIN:VCALENDAR
VERSION:2.0
PRODID:-//Plone.org//NONSGML plone.app.event//EN
X-WR-TIMEZONE:Europe/Berlin
BEGIN:VEVENT
SUMMARY:Sub regional workshop and Third preparatory Meeting of the Nationa
 l Operational Authorities responsible of the Sub regional Marine Oil Pollu
 tion Contingency Plan between Cyprus\, Greece\, and Israel
DTSTART;VALUE=DATE:20220920
DTEND;VALUE=DATE:20220923
DTSTAMP;VALUE=DATE-TIME:20260420T113339Z
UID:e500031578de4073be194e57b5fce99e@127.0.0.1:9080
CREATED;VALUE=DATE-TIME:20220428T114020Z
LAST-MODIFIED;VALUE=DATE-TIME:20220511T122812Z
LOCATION:Israel
URL:https://www.rempec.org/en/events/rempec-events/sub-regional-workshop-a
 nd-third-preparatory-meeting-of-the-national-operational-authorities-respo
 nsible-of-the-sub-regional-marine-oil-pollution-contingency-plan-between-c
 yprus-greece-and-israel
END:VEVENT
END:VCALENDAR
