BEGIN:VCALENDAR
VERSION:2.0
PRODID:-//Plone.org//NONSGML plone.app.event//EN
X-WR-TIMEZONE:Europe/Berlin
BEGIN:VEVENT
SUMMARY:Second Meeting on the development of the Adriatic Sub regional Oil
  Spill Contingency Plan
DTSTART;VALUE=DATE:20230516
DTEND;VALUE=DATE:20230519
DTSTAMP;VALUE=DATE-TIME:20260422T104624Z
UID:c541e08e32474adfaa90a189ae442194@127.0.0.1:9080
CREATED;VALUE=DATE-TIME:20220428T145431Z
LAST-MODIFIED;VALUE=DATE-TIME:20230324T094004Z
LOCATION:Opatija\, Croatia
URL:https://www.rempec.org/en/events/rempec-events/second-meeting-on-the-d
 evelopment-of-the-adriatic-sub-regional-oil-spill-contingency-plan
END:VEVENT
END:VCALENDAR
