BEGIN:VCALENDAR
VERSION:2.0
PRODID:-//Plone.org//NONSGML plone.app.event//EN
X-WR-TIMEZONE:Europe/Berlin
BEGIN:VEVENT
SUMMARY:Second Meeting of the Mediterranean Network of Law Enforcement Off
 icials relating to MARPOL within the framework of the Barcelona Convention
  (MENELAS)
DTSTART;VALUE=DATE:20171128
DTEND;VALUE=DATE:20171130
DTSTAMP;VALUE=DATE-TIME:20260422T112855Z
UID:9399f4d608094bb5859b497510b31036@127.0.0.1:9080
CREATED;VALUE=DATE-TIME:20200407T085315Z
LAST-MODIFIED;VALUE=DATE-TIME:20211122T094731Z
LOCATION:Valletta \, Malta
URL:https://www.rempec.org/en/events/rempec-events/second-meeting-of-the-m
 editerranean-network-of-law-enforcement-officials-relating-to-marpol-withi
 n-the-framework-of-the-barcelona-convention-menelas
END:VEVENT
END:VCALENDAR
