BEGIN:VCALENDAR
VERSION:2.0
PRODID:-//Plone.org//NONSGML plone.app.event//EN
X-WR-TIMEZONE:Europe/Berlin
BEGIN:VEVENT
SUMMARY:Regional Workshop on Ratification and Effective Implementation of 
 Annex VI to the International Convention for the Prevention of Pollution f
 rom Ships (MARPOL)
DTSTART;VALUE=DATE:20181211
DTEND;VALUE=DATE:20181214
DTSTAMP;VALUE=DATE-TIME:20260422T104728Z
UID:6e19b78897ee47fabe79db2d3ad61c07@127.0.0.1:9080
CREATED;VALUE=DATE-TIME:20210124T224448Z
LAST-MODIFIED;VALUE=DATE-TIME:20210125T083053Z
LOCATION:Valletta\, Malta
URL:https://www.rempec.org/en/events/rempec-events/regional-workshop-on-ra
 tification-and-effective-implementation-of-annex-vi-to-the-international-c
 onvention-for-the-prevention-of-pollution-from-ships-marpol
END:VEVENT
END:VCALENDAR
