BEGIN:VCALENDAR
VERSION:2.0
PRODID:-//Plone.org//NONSGML plone.app.event//EN
X-WR-TIMEZONE:Europe/Berlin
BEGIN:VEVENT
SUMMARY:Regional Webinar on the Study on Readiness of the Mediterranean Re
 gion to Respond to Marine Pollution Incidents Involving Low-Sulphur Fuels 
 and Alternative fuels\, and the Revised Guidelines for the Use of Dispersa
 nts for Combating Oil Pollution at Sea in the Mediterranean Region
DTSTART;TZID=Europe/Berlin;VALUE=DATE-TIME:20251117T100000
DTEND;TZID=Europe/Berlin;VALUE=DATE-TIME:20251117T130000
DTSTAMP;VALUE=DATE-TIME:20260422T122348Z
UID:27e253fc29c34c4bbce919ebdf5b05a2@127.0.0.1:9080
CREATED;VALUE=DATE-TIME:20251014T120149Z
LAST-MODIFIED;VALUE=DATE-TIME:20251125T102819Z
LOCATION:Online
URL:https://www.rempec.org/en/events/rempec-events/regional-webinar-on-the
 -study-on-readiness-of-the-mediterranean-region-to-respond-to-marine-pollu
 tion-incidents-involving-low-sulphur-fuels-and-alternative-fuels-and-the-r
 evised-guidelines-for-the-use-of-dispersants-for-combating-oil-pollution-a
 t-sea-in
END:VEVENT
BEGIN:VTIMEZONE
TZID:Europe/Berlin
X-LIC-LOCATION:Europe/Berlin
BEGIN:STANDARD
DTSTART;VALUE=DATE-TIME:20251026T020000
TZNAME:CET
TZOFFSETFROM:+0200
TZOFFSETTO:+0100
END:STANDARD
END:VTIMEZONE
END:VCALENDAR
