BEGIN:VCALENDAR
VERSION:2.0
PRODID:-//Plone.org//NONSGML plone.app.event//EN
X-WR-TIMEZONE:Europe/Berlin
BEGIN:VEVENT
SUMMARY:Regional Expert Meeting on the possible designation of the Mediter
 ranean Sea\, as a whole\, as an Emission Control Area for Sulphur Oxides (
 Med SOx ECA) pursuant to MARPOL Annex VI
DTSTART;VALUE=DATE:20210427
DTEND;VALUE=DATE:20210429
DTSTAMP;VALUE=DATE-TIME:20260422T104802Z
UID:acea3a7408fa40f091a2f2dec6e519d3@127.0.0.1:9080
CREATED;VALUE=DATE-TIME:20201112T161426Z
LAST-MODIFIED;VALUE=DATE-TIME:20210430T131706Z
URL:https://www.rempec.org/en/events/rempec-events/regional-expert-meeting
 -on-the-possible-designation-of-the-mediterranean-sea-as-a-whole-as-an-emi
 ssion-control-area-for-sulphur-oxides-med-sox-eca-pursuant-to-marpol-annex
 -vi
END:VEVENT
END:VCALENDAR
