BEGIN:VCALENDAR
VERSION:2.0
PRODID:-//Plone.org//NONSGML plone.app.event//EN
X-WR-TIMEZONE:Europe/Berlin
BEGIN:VEVENT
SUMMARY:Regional Expert Meeting Med NOx ECA
DTSTART;TZID=Europe/Berlin;VALUE=DATE-TIME:20251118T090000
DTEND;TZID=Europe/Berlin;VALUE=DATE-TIME:20251119T180000
DTSTAMP;VALUE=DATE-TIME:20260422T104354Z
UID:e25e4ed2386644de84fc6273fcc08f58@127.0.0.1:9080
CREATED;VALUE=DATE-TIME:20250819T093314Z
DESCRIPTION:Regional Expert Meeting on the Possible Designation of the Med
 iterranean\, as a whole\, as a Nitrogen Oxides Emission Control Area (Med 
 NOx ECA)\, pursuant to MARPOL Annex VI
LAST-MODIFIED;VALUE=DATE-TIME:20251215T131918Z
LOCATION:Lija\, Malta
URL:https://www.rempec.org/en/events/rempec-events/regional-expert-meeting
 -med-nox-eca
END:VEVENT
BEGIN:VTIMEZONE
TZID:Europe/Berlin
X-LIC-LOCATION:Europe/Berlin
BEGIN:STANDARD
DTSTART;VALUE=DATE-TIME:20251026T020000
TZNAME:CET
TZOFFSETFROM:+0200
TZOFFSETTO:+0100
END:STANDARD
END:VTIMEZONE
END:VCALENDAR
