BEGIN:VCALENDAR
VERSION:2.0
PRODID:-//Plone.org//NONSGML plone.app.event//EN
X-WR-TIMEZONE:Europe/Berlin
BEGIN:VEVENT
SUMMARY:Online workshop on the Common Standards and Guidance on the Dispos
 al of Oil and Oily Mixtures and the Use and Disposal of Drilling Fluids an
 d Cuttings (Decision IG. 24/9 Annex a)
DTSTART;VALUE=DATE:20211130
DTEND;VALUE=DATE:20211201
DTSTAMP;VALUE=DATE-TIME:20260422T104758Z
UID:91f23cdc57ee47d68006b0a169d16364@127.0.0.1:9080
CREATED;VALUE=DATE-TIME:20211025T095555Z
LAST-MODIFIED;VALUE=DATE-TIME:20220428T121458Z
URL:https://www.rempec.org/en/events/rempec-events/online-workshop-on-the-
 common-standards-and-guidance-on-the-disposal-of-oil-and-oily-mixtures-and
 -the-use-and-disposal-of-drilling-fluids-and-cuttings-decision-ig-24-9-ann
 ex-a
END:VEVENT
END:VCALENDAR
