BEGIN:VCALENDAR
VERSION:2.0
PRODID:-//Plone.org//NONSGML plone.app.event//EN
X-WR-TIMEZONE:Europe/Berlin
BEGIN:VEVENT
SUMMARY:National Workshop on Ratification and Effective Implementation of 
 MARPOL Annex VI for Algeria
DTSTART;TZID=Europe/Berlin;VALUE=DATE-TIME:20201126T080000
DTEND;TZID=Europe/Berlin;VALUE=DATE-TIME:20201126T163000
DTSTAMP;VALUE=DATE-TIME:20260422T122047Z
UID:9507a32b9fdc44b39fb015aff4f3fa8e@127.0.0.1:9080
CREATED;VALUE=DATE-TIME:20201112T152332Z
LAST-MODIFIED;VALUE=DATE-TIME:20211025T073123Z
LOCATION:Online
URL:https://www.rempec.org/en/events/rempec-events/national-workshop-virtu
 al-on-ratification-and-effective-implementation-of-marpol-annex-vi-for-alg
 eria
END:VEVENT
BEGIN:VTIMEZONE
TZID:Europe/Berlin
X-LIC-LOCATION:Europe/Berlin
BEGIN:STANDARD
DTSTART;VALUE=DATE-TIME:20201025T020000
TZNAME:CET
TZOFFSETFROM:+0200
TZOFFSETTO:+0100
END:STANDARD
END:VTIMEZONE
END:VCALENDAR
