BEGIN:VCALENDAR
VERSION:2.0
PRODID:-//Plone.org//NONSGML plone.app.event//EN
X-WR-TIMEZONE:Europe/Berlin
BEGIN:VEVENT
SUMMARY:National Seminar on the Ballast Water Management Convention
DTSTART;VALUE=DATE:20131001
DTEND;VALUE=DATE:20131003
DTSTAMP;VALUE=DATE-TIME:20260422T104609Z
UID:adfb708a9fa542d6b521bdef95dbdc27@127.0.0.1:9080
CREATED;VALUE=DATE-TIME:20200413T084341Z
LAST-MODIFIED;VALUE=DATE-TIME:20200804T141052Z
LOCATION:Bou Ismail (Algeria)
URL:https://www.rempec.org/en/events/rempec-events/national-seminar-on-the
 -ballast-water-management-convention
END:VEVENT
END:VCALENDAR
