BEGIN:VCALENDAR
VERSION:2.0
PRODID:-//Plone.org//NONSGML plone.app.event//EN
X-WR-TIMEZONE:Europe/Berlin
BEGIN:VEVENT
SUMMARY:National assessment of the level of oil spill response planning  a
 nd readiness management for the Central and Eastern Mediterranean
DTSTART;VALUE=DATE:20210921
DTEND;VALUE=DATE:20211105
DTSTAMP;VALUE=DATE-TIME:20260422T104737Z
UID:1291310094974b14a2c5addefae3bf29@127.0.0.1:9080
CREATED;VALUE=DATE-TIME:20210930T102753Z
LAST-MODIFIED;VALUE=DATE-TIME:20210930T102830Z
URL:https://www.rempec.org/en/events/rempec-events/national-assessment-of-
 the-level-of-oil-spill-response-planning-and-readiness-management-for-the-
 central-and-eastern-mediterranean
END:VEVENT
END:VCALENDAR
