BEGIN:VCALENDAR
VERSION:2.0
PRODID:-//Plone.org//NONSGML plone.app.event//EN
X-WR-TIMEZONE:Europe/Berlin
BEGIN:VEVENT
SUMMARY:First Meeting on the development of the Adriatic Sub-regional Mari
 ne Oil Pollution Contingency Plan between Albania\, Bosnia and Herzegovina
 \, Croatia\, Italy\, Montenegro and Slovenia
DTSTART;VALUE=DATE:20221108
DTEND;VALUE=DATE:20221110
DTSTAMP;VALUE=DATE-TIME:20260422T104623Z
UID:a0b6228e30274683a991dd6f0899342c@127.0.0.1:9080
CREATED;VALUE=DATE-TIME:20220428T120808Z
LAST-MODIFIED;VALUE=DATE-TIME:20221108T143428Z
LOCATION:Durrës Port Authority\, Albania
URL:https://www.rempec.org/en/events/rempec-events/first-meeting-on-the-de
 velopment-of-the-adriatic-sub-regional-oil-spill-contingency-plan
END:VEVENT
END:VCALENDAR
