BEGIN:VCALENDAR
VERSION:2.0
PRODID:-//Plone.org//NONSGML plone.app.event//EN
X-WR-TIMEZONE:Europe/Berlin
BEGIN:VEVENT
SUMMARY:Fifth Meeting of the Barcelona Convention Offshore Oil and Gas Gro
 up (OFOG)
DTSTART;TZID=Europe/Berlin;VALUE=DATE-TIME:20250219T090000
DTEND;TZID=Europe/Berlin;VALUE=DATE-TIME:20250220T180000
DTSTAMP;VALUE=DATE-TIME:20260423T105102Z
UID:6e50b845e21a45d59f6199da458ba9a3@127.0.0.1:9080
CREATED;VALUE=DATE-TIME:20241126T092056Z
DESCRIPTION:The Fifth Meeting of the Barcelona Convention Offshore Oil and
  Gas Group (OFOG) Sub-Group on Environmental Impact\, Malta
LAST-MODIFIED;VALUE=DATE-TIME:20250314T122609Z
LOCATION:Lija\, Malta
URL:https://www.rempec.org/en/events/rempec-events/fifth-meeting-of-the-ba
 rcelona-convention-offshore-oil-and-gas-group-ofog
END:VEVENT
BEGIN:VTIMEZONE
TZID:Europe/Berlin
X-LIC-LOCATION:Europe/Berlin
BEGIN:STANDARD
DTSTART;VALUE=DATE-TIME:20241027T020000
TZNAME:CET
TZOFFSETFROM:+0200
TZOFFSETTO:+0100
END:STANDARD
END:VTIMEZONE
END:VCALENDAR
